BEGIN:VCALENDAR
VERSION:2.0
PRODID:-//District 08 CNCA - ECPv6.15.20//NONSGML v1.0//EN
CALSCALE:GREGORIAN
METHOD:PUBLISH
X-ORIGINAL-URL:https://district08cnca.org
X-WR-CALDESC:Events for District 08 CNCA
REFRESH-INTERVAL;VALUE=DURATION:PT1H
X-Robots-Tag:noindex
X-PUBLISHED-TTL:PT1H
BEGIN:VTIMEZONE
TZID:America/Los_Angeles
BEGIN:DAYLIGHT
TZOFFSETFROM:-0800
TZOFFSETTO:-0700
TZNAME:PDT
DTSTART:20250309T100000
END:DAYLIGHT
BEGIN:STANDARD
TZOFFSETFROM:-0700
TZOFFSETTO:-0800
TZNAME:PST
DTSTART:20251102T090000
END:STANDARD
BEGIN:DAYLIGHT
TZOFFSETFROM:-0800
TZOFFSETTO:-0700
TZNAME:PDT
DTSTART:20260308T100000
END:DAYLIGHT
BEGIN:STANDARD
TZOFFSETFROM:-0700
TZOFFSETTO:-0800
TZNAME:PST
DTSTART:20261101T090000
END:STANDARD
BEGIN:DAYLIGHT
TZOFFSETFROM:-0800
TZOFFSETTO:-0700
TZNAME:PDT
DTSTART:20270314T100000
END:DAYLIGHT
BEGIN:STANDARD
TZOFFSETFROM:-0700
TZOFFSETTO:-0800
TZNAME:PST
DTSTART:20271107T090000
END:STANDARD
END:VTIMEZONE
BEGIN:VEVENT
DTSTART;VALUE=DATE:20260911
DTEND;VALUE=DATE:20260914
DTSTAMP:20260423T031539
CREATED:20260226T023657Z
LAST-MODIFIED:20260226T023657Z
UID:10001082-1789084800-1789343999@district08cnca.org
SUMMARY:The National AA Technology Workshop
DESCRIPTION:NAATW Workshop\n                 1 file(s)  303.42 KB\n            \n            \n                Download
URL:https://district08cnca.org/event/the-national-aa-technology-workshop/
LOCATION:Concord Hilton\, 1970 Diamond Blvd\, Concord\, CA\, 94520\, United States
CATEGORIES:Conferences
END:VEVENT
END:VCALENDAR