BEGIN:VCALENDAR
VERSION:2.0
PRODID:-//District 08 CNCA - ECPv6.15.20//NONSGML v1.0//EN
CALSCALE:GREGORIAN
METHOD:PUBLISH
X-WR-CALNAME:District 08 CNCA
X-ORIGINAL-URL:https://district08cnca.org
X-WR-CALDESC:Events for District 08 CNCA
REFRESH-INTERVAL;VALUE=DURATION:PT1H
X-Robots-Tag:noindex
X-PUBLISHED-TTL:PT1H
BEGIN:VTIMEZONE
TZID:America/Los_Angeles
BEGIN:DAYLIGHT
TZOFFSETFROM:-0800
TZOFFSETTO:-0700
TZNAME:PDT
DTSTART:20250309T100000
END:DAYLIGHT
BEGIN:STANDARD
TZOFFSETFROM:-0700
TZOFFSETTO:-0800
TZNAME:PST
DTSTART:20251102T090000
END:STANDARD
BEGIN:DAYLIGHT
TZOFFSETFROM:-0800
TZOFFSETTO:-0700
TZNAME:PDT
DTSTART:20260308T100000
END:DAYLIGHT
BEGIN:STANDARD
TZOFFSETFROM:-0700
TZOFFSETTO:-0800
TZNAME:PST
DTSTART:20261101T090000
END:STANDARD
BEGIN:DAYLIGHT
TZOFFSETFROM:-0800
TZOFFSETTO:-0700
TZNAME:PDT
DTSTART:20270314T100000
END:DAYLIGHT
BEGIN:STANDARD
TZOFFSETFROM:-0700
TZOFFSETTO:-0800
TZNAME:PST
DTSTART:20271107T090000
END:STANDARD
END:VTIMEZONE
BEGIN:VEVENT
DTSTART;TZID=America/Los_Angeles:20260901T184500
DTEND;TZID=America/Los_Angeles:20260901T191500
DTSTAMP:20260423T015026
CREATED:20241201T190218Z
LAST-MODIFIED:20241201T190218Z
UID:10001025-1788288300-1788290100@district08cnca.org
SUMMARY:Panel 75 New GSR Training
DESCRIPTION:The New GSR Orientation training will be virtual via Zoom and in-person at Grace Episcopal Church\, 130 Muir Station Road\, Martinez\, CA 94553. For the Zoom passcode\, please Contact Us.
URL:https://district08cnca.org/event/panel-75-new-gsr-training/2026-09-01/
LOCATION:Grace Episcopal Church\, 130 Muir Station Rd\, Martinez\, CA\, 94553\, United States
CATEGORIES:District 08,Training/Workshops
END:VEVENT
BEGIN:VEVENT
DTSTART;TZID=America/Los_Angeles:20260901T184500
DTEND;TZID=America/Los_Angeles:20260901T191500
DTSTAMP:20260423T015026
CREATED:20241201T190524Z
LAST-MODIFIED:20241201T190524Z
UID:10001049-1788288300-1788290100@district08cnca.org
SUMMARY:Panel 75 District Service Manual and Concept Study
DESCRIPTION:The Service Manual & Concept Study will be virtual via Zoom or in-person at Grace Episcopal Church\, 130 Muir Station Road\, Martinez\, CA 94553. For the Zoom passcode\, please Contact Us.
URL:https://district08cnca.org/event/panel-75-district-service-manual-and-concept-study/2026-09-01/
LOCATION:Grace Episcopal Church\, 130 Muir Station Rd\, Martinez\, CA\, 94553\, United States
CATEGORIES:District 08,Training/Workshops
END:VEVENT
BEGIN:VEVENT
DTSTART;TZID=America/Los_Angeles:20260901T193000
DTEND;TZID=America/Los_Angeles:20260901T210000
DTSTAMP:20260423T015026
CREATED:20241201T185847Z
LAST-MODIFIED:20260109T235629Z
UID:10001075-1788291000-1788296400@district08cnca.org
SUMMARY:Panel 75 District Business Meeting
DESCRIPTION:The Business meeting will be virtual via Zoom and in-person at Grace Episcopal Church\, 130 Muir Station Road\, Martinez\, CA 94553. For the Zoom passcode\, please Contact Us.
URL:https://district08cnca.org/event/p75-bismeet/2026-09-01/
LOCATION:Grace Episcopal Church\, 130 Muir Station Rd\, Martinez\, CA\, 94553\, United States
CATEGORIES:District 08
END:VEVENT
BEGIN:VEVENT
DTSTART;TZID=America/Los_Angeles:20260926T123000
DTEND;TZID=America/Los_Angeles:20260926T153000
DTSTAMP:20260423T015026
CREATED:20241102T221247Z
LAST-MODIFIED:20241102T222055Z
UID:10000974-1790425800-1790436600@district08cnca.org
SUMMARY:Panel 75 Monthly Area Committee Meeting
DESCRIPTION:DCM Sharing Session 11:00 am\nACM begins at 12:30 pm\nClick here to go to meetings\nMeeting ID: 632 553 607\nPasscode: Ask your DCM or GSR or Contact Us
URL:https://district08cnca.org/event/p75-acm/2026-09-26/
LOCATION:Petaluma Community Center\, 320 N. McDowell Blvd\, Petaluma\, CA\, 94954\, United States
CATEGORIES:ACM,CNCA Area 06
END:VEVENT
END:VCALENDAR