BEGIN:VCALENDAR
VERSION:2.0
PRODID:-//District 08 CNCA - ECPv6.15.20//NONSGML v1.0//EN
CALSCALE:GREGORIAN
METHOD:PUBLISH
X-ORIGINAL-URL:https://district08cnca.org
X-WR-CALDESC:Events for District 08 CNCA
REFRESH-INTERVAL;VALUE=DURATION:PT1H
X-Robots-Tag:noindex
X-PUBLISHED-TTL:PT1H
BEGIN:VTIMEZONE
TZID:America/Los_Angeles
BEGIN:DAYLIGHT
TZOFFSETFROM:-0800
TZOFFSETTO:-0700
TZNAME:PDT
DTSTART:20250309T100000
END:DAYLIGHT
BEGIN:STANDARD
TZOFFSETFROM:-0700
TZOFFSETTO:-0800
TZNAME:PST
DTSTART:20251102T090000
END:STANDARD
BEGIN:DAYLIGHT
TZOFFSETFROM:-0800
TZOFFSETTO:-0700
TZNAME:PDT
DTSTART:20260308T100000
END:DAYLIGHT
BEGIN:STANDARD
TZOFFSETFROM:-0700
TZOFFSETTO:-0800
TZNAME:PST
DTSTART:20261101T090000
END:STANDARD
BEGIN:DAYLIGHT
TZOFFSETFROM:-0800
TZOFFSETTO:-0700
TZNAME:PDT
DTSTART:20270314T100000
END:DAYLIGHT
BEGIN:STANDARD
TZOFFSETFROM:-0700
TZOFFSETTO:-0800
TZNAME:PST
DTSTART:20271107T090000
END:STANDARD
END:VTIMEZONE
BEGIN:VEVENT
DTSTART;TZID=America/Los_Angeles:20260425T123000
DTEND;TZID=America/Los_Angeles:20260425T153000
DTSTAMP:20260422T152008
CREATED:20241102T221247Z
LAST-MODIFIED:20241102T222055Z
UID:10000969-1777120200-1777131000@district08cnca.org
SUMMARY:Panel 75 Monthly Area Committee Meeting
DESCRIPTION:DCM Sharing Session 11:00 am\nACM begins at 12:30 pm\nClick here to go to meetings\nMeeting ID: 632 553 607\nPasscode: Ask your DCM or GSR or Contact Us
URL:https://district08cnca.org/event/p75-acm/2026-04-25/
LOCATION:Petaluma Community Center\, 320 N. McDowell Blvd\, Petaluma\, CA\, 94954\, United States
CATEGORIES:ACM,CNCA Area 06
END:VEVENT
BEGIN:VEVENT
DTSTART;TZID=America/Los_Angeles:20260523T123000
DTEND;TZID=America/Los_Angeles:20260523T153000
DTSTAMP:20260422T152008
CREATED:20241102T221247Z
LAST-MODIFIED:20241102T222055Z
UID:10000970-1779539400-1779550200@district08cnca.org
SUMMARY:Panel 75 Monthly Area Committee Meeting
DESCRIPTION:DCM Sharing Session 11:00 am\nACM begins at 12:30 pm\nClick here to go to meetings\nMeeting ID: 632 553 607\nPasscode: Ask your DCM or GSR or Contact Us
URL:https://district08cnca.org/event/p75-acm/2026-05-23/
LOCATION:Petaluma Community Center\, 320 N. McDowell Blvd\, Petaluma\, CA\, 94954\, United States
CATEGORIES:ACM,CNCA Area 06
END:VEVENT
BEGIN:VEVENT
DTSTART;TZID=America/Los_Angeles:20260627T123000
DTEND;TZID=America/Los_Angeles:20260627T153000
DTSTAMP:20260422T152008
CREATED:20241102T221247Z
LAST-MODIFIED:20241102T222055Z
UID:10000971-1782563400-1782574200@district08cnca.org
SUMMARY:Panel 75 Monthly Area Committee Meeting
DESCRIPTION:DCM Sharing Session 11:00 am\nACM begins at 12:30 pm\nClick here to go to meetings\nMeeting ID: 632 553 607\nPasscode: Ask your DCM or GSR or Contact Us
URL:https://district08cnca.org/event/p75-acm/2026-06-27/
LOCATION:Petaluma Community Center\, 320 N. McDowell Blvd\, Petaluma\, CA\, 94954\, United States
CATEGORIES:ACM,CNCA Area 06
END:VEVENT
BEGIN:VEVENT
DTSTART;TZID=America/Los_Angeles:20260725T123000
DTEND;TZID=America/Los_Angeles:20260725T153000
DTSTAMP:20260422T152008
CREATED:20241102T221247Z
LAST-MODIFIED:20241102T222055Z
UID:10000972-1784982600-1784993400@district08cnca.org
SUMMARY:Panel 75 Monthly Area Committee Meeting
DESCRIPTION:DCM Sharing Session 11:00 am\nACM begins at 12:30 pm\nClick here to go to meetings\nMeeting ID: 632 553 607\nPasscode: Ask your DCM or GSR or Contact Us
URL:https://district08cnca.org/event/p75-acm/2026-07-25/
LOCATION:Petaluma Community Center\, 320 N. McDowell Blvd\, Petaluma\, CA\, 94954\, United States
CATEGORIES:ACM,CNCA Area 06
END:VEVENT
BEGIN:VEVENT
DTSTART;TZID=America/Los_Angeles:20260822T123000
DTEND;TZID=America/Los_Angeles:20260822T153000
DTSTAMP:20260422T152008
CREATED:20241102T221247Z
LAST-MODIFIED:20241102T222055Z
UID:10000973-1787401800-1787412600@district08cnca.org
SUMMARY:Panel 75 Monthly Area Committee Meeting
DESCRIPTION:DCM Sharing Session 11:00 am\nACM begins at 12:30 pm\nClick here to go to meetings\nMeeting ID: 632 553 607\nPasscode: Ask your DCM or GSR or Contact Us
URL:https://district08cnca.org/event/p75-acm/2026-08-22/
LOCATION:Petaluma Community Center\, 320 N. McDowell Blvd\, Petaluma\, CA\, 94954\, United States
CATEGORIES:ACM,CNCA Area 06
END:VEVENT
BEGIN:VEVENT
DTSTART;TZID=America/Los_Angeles:20260926T123000
DTEND;TZID=America/Los_Angeles:20260926T153000
DTSTAMP:20260422T152008
CREATED:20241102T221247Z
LAST-MODIFIED:20241102T222055Z
UID:10000974-1790425800-1790436600@district08cnca.org
SUMMARY:Panel 75 Monthly Area Committee Meeting
DESCRIPTION:DCM Sharing Session 11:00 am\nACM begins at 12:30 pm\nClick here to go to meetings\nMeeting ID: 632 553 607\nPasscode: Ask your DCM or GSR or Contact Us
URL:https://district08cnca.org/event/p75-acm/2026-09-26/
LOCATION:Petaluma Community Center\, 320 N. McDowell Blvd\, Petaluma\, CA\, 94954\, United States
CATEGORIES:ACM,CNCA Area 06
END:VEVENT
BEGIN:VEVENT
DTSTART;TZID=America/Los_Angeles:20261024T123000
DTEND;TZID=America/Los_Angeles:20261024T153000
DTSTAMP:20260422T152008
CREATED:20241102T221247Z
LAST-MODIFIED:20241102T222055Z
UID:10000975-1792845000-1792855800@district08cnca.org
SUMMARY:Panel 75 Monthly Area Committee Meeting
DESCRIPTION:DCM Sharing Session 11:00 am\nACM begins at 12:30 pm\nClick here to go to meetings\nMeeting ID: 632 553 607\nPasscode: Ask your DCM or GSR or Contact Us
URL:https://district08cnca.org/event/p75-acm/2026-10-24/
LOCATION:Petaluma Community Center\, 320 N. McDowell Blvd\, Petaluma\, CA\, 94954\, United States
CATEGORIES:ACM,CNCA Area 06
END:VEVENT
BEGIN:VEVENT
DTSTART;TZID=America/Los_Angeles:20261128T123000
DTEND;TZID=America/Los_Angeles:20261128T153000
DTSTAMP:20260422T152008
CREATED:20241102T221247Z
LAST-MODIFIED:20241102T222055Z
UID:10000976-1795869000-1795879800@district08cnca.org
SUMMARY:Panel 75 Monthly Area Committee Meeting
DESCRIPTION:DCM Sharing Session 11:00 am\nACM begins at 12:30 pm\nClick here to go to meetings\nMeeting ID: 632 553 607\nPasscode: Ask your DCM or GSR or Contact Us
URL:https://district08cnca.org/event/p75-acm/2026-11-28/
LOCATION:Petaluma Community Center\, 320 N. McDowell Blvd\, Petaluma\, CA\, 94954\, United States
CATEGORIES:ACM,CNCA Area 06
END:VEVENT
BEGIN:VEVENT
DTSTART;TZID=America/Los_Angeles:20261219T123000
DTEND;TZID=America/Los_Angeles:20261219T153000
DTSTAMP:20260422T152008
CREATED:20241102T222255Z
LAST-MODIFIED:20241102T222255Z
UID:10000977-1797683400-1797694200@district08cnca.org
SUMMARY:Panel 75 Monthly Area Committee Meeting
DESCRIPTION:DCM Sharing Session 11:00 am\nACM begins at 12:30 pm\nClick here to go to meetings\nMeeting ID: 632 553 607\nPasscode: Ask your DCM or GSR or Contact Us
URL:https://district08cnca.org/event/panel-75-monthly-area-committee-meeting/
LOCATION:Petaluma Community Center\, 320 N. McDowell Blvd\, Petaluma\, CA\, 94954\, United States
CATEGORIES:ACM,CNCA Area 06
END:VEVENT
END:VCALENDAR