BEGIN:VCALENDAR
VERSION:2.0
PRODID:-//District 08 CNCA - ECPv6.15.20//NONSGML v1.0//EN
CALSCALE:GREGORIAN
METHOD:PUBLISH
X-ORIGINAL-URL:https://district08cnca.org
X-WR-CALDESC:Events for District 08 CNCA
REFRESH-INTERVAL;VALUE=DURATION:PT1H
X-Robots-Tag:noindex
X-PUBLISHED-TTL:PT1H
BEGIN:VTIMEZONE
TZID:America/Los_Angeles
BEGIN:DAYLIGHT
TZOFFSETFROM:-0800
TZOFFSETTO:-0700
TZNAME:PDT
DTSTART:20250309T100000
END:DAYLIGHT
BEGIN:STANDARD
TZOFFSETFROM:-0700
TZOFFSETTO:-0800
TZNAME:PST
DTSTART:20251102T090000
END:STANDARD
BEGIN:DAYLIGHT
TZOFFSETFROM:-0800
TZOFFSETTO:-0700
TZNAME:PDT
DTSTART:20260308T100000
END:DAYLIGHT
BEGIN:STANDARD
TZOFFSETFROM:-0700
TZOFFSETTO:-0800
TZNAME:PST
DTSTART:20261101T090000
END:STANDARD
BEGIN:DAYLIGHT
TZOFFSETFROM:-0800
TZOFFSETTO:-0700
TZNAME:PDT
DTSTART:20270314T100000
END:DAYLIGHT
BEGIN:STANDARD
TZOFFSETFROM:-0700
TZOFFSETTO:-0800
TZNAME:PST
DTSTART:20271107T090000
END:STANDARD
END:VTIMEZONE
BEGIN:VEVENT
DTSTART;TZID=America/Los_Angeles:20260320T140000
DTEND;TZID=America/Los_Angeles:20260322T110000
DTSTAMP:20260422T214248
CREATED:20260128T193256Z
LAST-MODIFIED:20260128T193256Z
UID:10001080-1774015200-1774177200@district08cnca.org
SUMMARY:NCCAA 77th Annual Spring Conference
DESCRIPTION:NCCAA 77th Annual Spring Conference\n                 1 file(s)  376.52 KB\n            \n            \n                Download
URL:https://district08cnca.org/event/nccaa-77th-annual-spring-conference/
LOCATION:San Ramon Marriott\, 2600 Bishop Dr\, San Ramon\, CA\, 94583\, United States
CATEGORIES:Conferences
END:VEVENT
BEGIN:VEVENT
DTSTART;TZID=America/Los_Angeles:20260328T123000
DTEND;TZID=America/Los_Angeles:20260328T153000
DTSTAMP:20260422T214248
CREATED:20241102T221247Z
LAST-MODIFIED:20241102T222055Z
UID:10000968-1774701000-1774711800@district08cnca.org
SUMMARY:Panel 75 Monthly Area Committee Meeting
DESCRIPTION:DCM Sharing Session 11:00 am\nACM begins at 12:30 pm\nClick here to go to meetings\nMeeting ID: 632 553 607\nPasscode: Ask your DCM or GSR or Contact Us
URL:https://district08cnca.org/event/p75-acm/2026-03-28/
LOCATION:Petaluma Community Center\, 320 N. McDowell Blvd\, Petaluma\, CA\, 94954\, United States
CATEGORIES:ACM,CNCA Area 06
END:VEVENT
BEGIN:VEVENT
DTSTART;TZID=America/Los_Angeles:20260407T184500
DTEND;TZID=America/Los_Angeles:20260407T191500
DTSTAMP:20260422T214248
CREATED:20241201T190218Z
LAST-MODIFIED:20241201T190218Z
UID:10001020-1775587500-1775589300@district08cnca.org
SUMMARY:Panel 75 New GSR Training
DESCRIPTION:The New GSR Orientation training will be virtual via Zoom and in-person at Grace Episcopal Church\, 130 Muir Station Road\, Martinez\, CA 94553. For the Zoom passcode\, please Contact Us.
URL:https://district08cnca.org/event/panel-75-new-gsr-training/2026-04-07/
LOCATION:Grace Episcopal Church\, 130 Muir Station Rd\, Martinez\, CA\, 94553\, United States
CATEGORIES:District 08,Training/Workshops
END:VEVENT
BEGIN:VEVENT
DTSTART;TZID=America/Los_Angeles:20260407T184500
DTEND;TZID=America/Los_Angeles:20260407T191500
DTSTAMP:20260422T214248
CREATED:20241201T190524Z
LAST-MODIFIED:20241201T190524Z
UID:10001044-1775587500-1775589300@district08cnca.org
SUMMARY:Panel 75 District Service Manual and Concept Study
DESCRIPTION:The Service Manual & Concept Study will be virtual via Zoom or in-person at Grace Episcopal Church\, 130 Muir Station Road\, Martinez\, CA 94553. For the Zoom passcode\, please Contact Us.
URL:https://district08cnca.org/event/panel-75-district-service-manual-and-concept-study/2026-04-07/
LOCATION:Grace Episcopal Church\, 130 Muir Station Rd\, Martinez\, CA\, 94553\, United States
CATEGORIES:District 08,Training/Workshops
END:VEVENT
BEGIN:VEVENT
DTSTART;TZID=America/Los_Angeles:20260407T193000
DTEND;TZID=America/Los_Angeles:20260407T210000
DTSTAMP:20260422T214248
CREATED:20241201T185847Z
LAST-MODIFIED:20260109T235629Z
UID:10001070-1775590200-1775595600@district08cnca.org
SUMMARY:Panel 75 District Business Meeting
DESCRIPTION:The Business meeting will be virtual via Zoom and in-person at Grace Episcopal Church\, 130 Muir Station Road\, Martinez\, CA 94553. For the Zoom passcode\, please Contact Us.
URL:https://district08cnca.org/event/p75-bismeet/2026-04-07/
LOCATION:Grace Episcopal Church\, 130 Muir Station Rd\, Martinez\, CA\, 94553\, United States
CATEGORIES:District 08
END:VEVENT
BEGIN:VEVENT
DTSTART;VALUE=DATE:20260411
DTEND;VALUE=DATE:20260413
DTSTAMP:20260422T214248
CREATED:20251201T001636Z
LAST-MODIFIED:20251201T001636Z
UID:10001064-1775865600-1776038399@district08cnca.org
SUMMARY:Pre-Conference Assembly 2026
DESCRIPTION:Pre-Conference Assembly 2026\n                 1 file(s)  230.96 KB\n            \n            \n                Download
URL:https://district08cnca.org/event/pre-conference-assembly-2026/
LOCATION:Petaluma Veterans Memorial Building\, 1094 Petaluma Blvd S\, Petaluma\, CA\, 94952\, United States
CATEGORIES:Assembly,CNCA Area 06,Conferences
END:VEVENT
BEGIN:VEVENT
DTSTART;TZID=America/Los_Angeles:20260411T173000
DTEND;TZID=America/Los_Angeles:20260411T193000
DTSTAMP:20260422T214248
CREATED:20260402T154023Z
LAST-MODIFIED:20260402T154023Z
UID:10001084-1775928600-1775935800@district08cnca.org
SUMMARY:Pre-Conf. Dinner + Speaker Meeting
DESCRIPTION:Pre-Conf. Dinner + Speaker Meeting\n                 1 file(s)  373.60 KB\n            \n            \n                Download
URL:https://district08cnca.org/event/pre-conf-dinner-speaker-meeting/
LOCATION:Petaluma Veterans Memorial Building\, 1094 Petaluma Blvd S\, Petaluma\, CA\, 94952\, United States
CATEGORIES:Assembly,CNCA Area 06,Special Events
END:VEVENT
BEGIN:VEVENT
DTSTART;TZID=America/Los_Angeles:20260425T123000
DTEND;TZID=America/Los_Angeles:20260425T153000
DTSTAMP:20260422T214248
CREATED:20241102T221247Z
LAST-MODIFIED:20241102T222055Z
UID:10000969-1777120200-1777131000@district08cnca.org
SUMMARY:Panel 75 Monthly Area Committee Meeting
DESCRIPTION:DCM Sharing Session 11:00 am\nACM begins at 12:30 pm\nClick here to go to meetings\nMeeting ID: 632 553 607\nPasscode: Ask your DCM or GSR or Contact Us
URL:https://district08cnca.org/event/p75-acm/2026-04-25/
LOCATION:Petaluma Community Center\, 320 N. McDowell Blvd\, Petaluma\, CA\, 94954\, United States
CATEGORIES:ACM,CNCA Area 06
END:VEVENT
BEGIN:VEVENT
DTSTART;TZID=America/Los_Angeles:20260505T184500
DTEND;TZID=America/Los_Angeles:20260505T191500
DTSTAMP:20260422T214248
CREATED:20241201T190218Z
LAST-MODIFIED:20241201T190218Z
UID:10001021-1778006700-1778008500@district08cnca.org
SUMMARY:Panel 75 New GSR Training
DESCRIPTION:The New GSR Orientation training will be virtual via Zoom and in-person at Grace Episcopal Church\, 130 Muir Station Road\, Martinez\, CA 94553. For the Zoom passcode\, please Contact Us.
URL:https://district08cnca.org/event/panel-75-new-gsr-training/2026-05-05/
LOCATION:Grace Episcopal Church\, 130 Muir Station Rd\, Martinez\, CA\, 94553\, United States
CATEGORIES:District 08,Training/Workshops
END:VEVENT
BEGIN:VEVENT
DTSTART;TZID=America/Los_Angeles:20260505T184500
DTEND;TZID=America/Los_Angeles:20260505T191500
DTSTAMP:20260422T214248
CREATED:20241201T190524Z
LAST-MODIFIED:20241201T190524Z
UID:10001045-1778006700-1778008500@district08cnca.org
SUMMARY:Panel 75 District Service Manual and Concept Study
DESCRIPTION:The Service Manual & Concept Study will be virtual via Zoom or in-person at Grace Episcopal Church\, 130 Muir Station Road\, Martinez\, CA 94553. For the Zoom passcode\, please Contact Us.
URL:https://district08cnca.org/event/panel-75-district-service-manual-and-concept-study/2026-05-05/
LOCATION:Grace Episcopal Church\, 130 Muir Station Rd\, Martinez\, CA\, 94553\, United States
CATEGORIES:District 08,Training/Workshops
END:VEVENT
BEGIN:VEVENT
DTSTART;TZID=America/Los_Angeles:20260505T193000
DTEND;TZID=America/Los_Angeles:20260505T210000
DTSTAMP:20260422T214248
CREATED:20241201T185847Z
LAST-MODIFIED:20260109T235629Z
UID:10001071-1778009400-1778014800@district08cnca.org
SUMMARY:Panel 75 District Business Meeting
DESCRIPTION:The Business meeting will be virtual via Zoom and in-person at Grace Episcopal Church\, 130 Muir Station Road\, Martinez\, CA 94553. For the Zoom passcode\, please Contact Us.
URL:https://district08cnca.org/event/p75-bismeet/2026-05-05/
LOCATION:Grace Episcopal Church\, 130 Muir Station Rd\, Martinez\, CA\, 94553\, United States
CATEGORIES:District 08
END:VEVENT
BEGIN:VEVENT
DTSTART;TZID=America/Los_Angeles:20260523T123000
DTEND;TZID=America/Los_Angeles:20260523T153000
DTSTAMP:20260422T214248
CREATED:20241102T221247Z
LAST-MODIFIED:20241102T222055Z
UID:10000970-1779539400-1779550200@district08cnca.org
SUMMARY:Panel 75 Monthly Area Committee Meeting
DESCRIPTION:DCM Sharing Session 11:00 am\nACM begins at 12:30 pm\nClick here to go to meetings\nMeeting ID: 632 553 607\nPasscode: Ask your DCM or GSR or Contact Us
URL:https://district08cnca.org/event/p75-acm/2026-05-23/
LOCATION:Petaluma Community Center\, 320 N. McDowell Blvd\, Petaluma\, CA\, 94954\, United States
CATEGORIES:ACM,CNCA Area 06
END:VEVENT
BEGIN:VEVENT
DTSTART;TZID=America/Los_Angeles:20260602T184500
DTEND;TZID=America/Los_Angeles:20260602T191500
DTSTAMP:20260422T214248
CREATED:20241201T190218Z
LAST-MODIFIED:20241201T190218Z
UID:10001022-1780425900-1780427700@district08cnca.org
SUMMARY:Panel 75 New GSR Training
DESCRIPTION:The New GSR Orientation training will be virtual via Zoom and in-person at Grace Episcopal Church\, 130 Muir Station Road\, Martinez\, CA 94553. For the Zoom passcode\, please Contact Us.
URL:https://district08cnca.org/event/panel-75-new-gsr-training/2026-06-02/
LOCATION:Grace Episcopal Church\, 130 Muir Station Rd\, Martinez\, CA\, 94553\, United States
CATEGORIES:District 08,Training/Workshops
END:VEVENT
BEGIN:VEVENT
DTSTART;TZID=America/Los_Angeles:20260602T184500
DTEND;TZID=America/Los_Angeles:20260602T191500
DTSTAMP:20260422T214248
CREATED:20241201T190524Z
LAST-MODIFIED:20241201T190524Z
UID:10001046-1780425900-1780427700@district08cnca.org
SUMMARY:Panel 75 District Service Manual and Concept Study
DESCRIPTION:The Service Manual & Concept Study will be virtual via Zoom or in-person at Grace Episcopal Church\, 130 Muir Station Road\, Martinez\, CA 94553. For the Zoom passcode\, please Contact Us.
URL:https://district08cnca.org/event/panel-75-district-service-manual-and-concept-study/2026-06-02/
LOCATION:Grace Episcopal Church\, 130 Muir Station Rd\, Martinez\, CA\, 94553\, United States
CATEGORIES:District 08,Training/Workshops
END:VEVENT
BEGIN:VEVENT
DTSTART;TZID=America/Los_Angeles:20260602T193000
DTEND;TZID=America/Los_Angeles:20260602T210000
DTSTAMP:20260422T214248
CREATED:20241201T185847Z
LAST-MODIFIED:20260109T235629Z
UID:10001072-1780428600-1780434000@district08cnca.org
SUMMARY:Panel 75 District Business Meeting
DESCRIPTION:The Business meeting will be virtual via Zoom and in-person at Grace Episcopal Church\, 130 Muir Station Road\, Martinez\, CA 94553. For the Zoom passcode\, please Contact Us.
URL:https://district08cnca.org/event/p75-bismeet/2026-06-02/
LOCATION:Grace Episcopal Church\, 130 Muir Station Rd\, Martinez\, CA\, 94553\, United States
CATEGORIES:District 08
END:VEVENT
BEGIN:VEVENT
DTSTART;TZID=America/Los_Angeles:20260627T123000
DTEND;TZID=America/Los_Angeles:20260627T153000
DTSTAMP:20260422T214248
CREATED:20241102T221247Z
LAST-MODIFIED:20241102T222055Z
UID:10000971-1782563400-1782574200@district08cnca.org
SUMMARY:Panel 75 Monthly Area Committee Meeting
DESCRIPTION:DCM Sharing Session 11:00 am\nACM begins at 12:30 pm\nClick here to go to meetings\nMeeting ID: 632 553 607\nPasscode: Ask your DCM or GSR or Contact Us
URL:https://district08cnca.org/event/p75-acm/2026-06-27/
LOCATION:Petaluma Community Center\, 320 N. McDowell Blvd\, Petaluma\, CA\, 94954\, United States
CATEGORIES:ACM,CNCA Area 06
END:VEVENT
BEGIN:VEVENT
DTSTART;TZID=America/Los_Angeles:20260707T184500
DTEND;TZID=America/Los_Angeles:20260707T191500
DTSTAMP:20260422T214248
CREATED:20241201T190218Z
LAST-MODIFIED:20241201T190218Z
UID:10001023-1783449900-1783451700@district08cnca.org
SUMMARY:Panel 75 New GSR Training
DESCRIPTION:The New GSR Orientation training will be virtual via Zoom and in-person at Grace Episcopal Church\, 130 Muir Station Road\, Martinez\, CA 94553. For the Zoom passcode\, please Contact Us.
URL:https://district08cnca.org/event/panel-75-new-gsr-training/2026-07-07/
LOCATION:Grace Episcopal Church\, 130 Muir Station Rd\, Martinez\, CA\, 94553\, United States
CATEGORIES:District 08,Training/Workshops
END:VEVENT
BEGIN:VEVENT
DTSTART;TZID=America/Los_Angeles:20260707T184500
DTEND;TZID=America/Los_Angeles:20260707T191500
DTSTAMP:20260422T214248
CREATED:20241201T190524Z
LAST-MODIFIED:20241201T190524Z
UID:10001047-1783449900-1783451700@district08cnca.org
SUMMARY:Panel 75 District Service Manual and Concept Study
DESCRIPTION:The Service Manual & Concept Study will be virtual via Zoom or in-person at Grace Episcopal Church\, 130 Muir Station Road\, Martinez\, CA 94553. For the Zoom passcode\, please Contact Us.
URL:https://district08cnca.org/event/panel-75-district-service-manual-and-concept-study/2026-07-07/
LOCATION:Grace Episcopal Church\, 130 Muir Station Rd\, Martinez\, CA\, 94553\, United States
CATEGORIES:District 08,Training/Workshops
END:VEVENT
BEGIN:VEVENT
DTSTART;TZID=America/Los_Angeles:20260707T193000
DTEND;TZID=America/Los_Angeles:20260707T210000
DTSTAMP:20260422T214248
CREATED:20241201T185847Z
LAST-MODIFIED:20260109T235629Z
UID:10001073-1783452600-1783458000@district08cnca.org
SUMMARY:Panel 75 District Business Meeting
DESCRIPTION:The Business meeting will be virtual via Zoom and in-person at Grace Episcopal Church\, 130 Muir Station Road\, Martinez\, CA 94553. For the Zoom passcode\, please Contact Us.
URL:https://district08cnca.org/event/p75-bismeet/2026-07-07/
LOCATION:Grace Episcopal Church\, 130 Muir Station Rd\, Martinez\, CA\, 94553\, United States
CATEGORIES:District 08
END:VEVENT
BEGIN:VEVENT
DTSTART;TZID=America/Los_Angeles:20260725T123000
DTEND;TZID=America/Los_Angeles:20260725T153000
DTSTAMP:20260422T214249
CREATED:20241102T221247Z
LAST-MODIFIED:20241102T222055Z
UID:10000972-1784982600-1784993400@district08cnca.org
SUMMARY:Panel 75 Monthly Area Committee Meeting
DESCRIPTION:DCM Sharing Session 11:00 am\nACM begins at 12:30 pm\nClick here to go to meetings\nMeeting ID: 632 553 607\nPasscode: Ask your DCM or GSR or Contact Us
URL:https://district08cnca.org/event/p75-acm/2026-07-25/
LOCATION:Petaluma Community Center\, 320 N. McDowell Blvd\, Petaluma\, CA\, 94954\, United States
CATEGORIES:ACM,CNCA Area 06
END:VEVENT
BEGIN:VEVENT
DTSTART;TZID=America/Los_Angeles:20260804T184500
DTEND;TZID=America/Los_Angeles:20260804T191500
DTSTAMP:20260422T214249
CREATED:20241201T190218Z
LAST-MODIFIED:20241201T190218Z
UID:10001024-1785869100-1785870900@district08cnca.org
SUMMARY:Panel 75 New GSR Training
DESCRIPTION:The New GSR Orientation training will be virtual via Zoom and in-person at Grace Episcopal Church\, 130 Muir Station Road\, Martinez\, CA 94553. For the Zoom passcode\, please Contact Us.
URL:https://district08cnca.org/event/panel-75-new-gsr-training/2026-08-04/
LOCATION:Grace Episcopal Church\, 130 Muir Station Rd\, Martinez\, CA\, 94553\, United States
CATEGORIES:District 08,Training/Workshops
END:VEVENT
BEGIN:VEVENT
DTSTART;TZID=America/Los_Angeles:20260804T184500
DTEND;TZID=America/Los_Angeles:20260804T191500
DTSTAMP:20260422T214249
CREATED:20241201T190524Z
LAST-MODIFIED:20241201T190524Z
UID:10001048-1785869100-1785870900@district08cnca.org
SUMMARY:Panel 75 District Service Manual and Concept Study
DESCRIPTION:The Service Manual & Concept Study will be virtual via Zoom or in-person at Grace Episcopal Church\, 130 Muir Station Road\, Martinez\, CA 94553. For the Zoom passcode\, please Contact Us.
URL:https://district08cnca.org/event/panel-75-district-service-manual-and-concept-study/2026-08-04/
LOCATION:Grace Episcopal Church\, 130 Muir Station Rd\, Martinez\, CA\, 94553\, United States
CATEGORIES:District 08,Training/Workshops
END:VEVENT
BEGIN:VEVENT
DTSTART;TZID=America/Los_Angeles:20260804T193000
DTEND;TZID=America/Los_Angeles:20260804T210000
DTSTAMP:20260422T214249
CREATED:20241201T185847Z
LAST-MODIFIED:20260109T235629Z
UID:10001074-1785871800-1785877200@district08cnca.org
SUMMARY:Panel 75 District Business Meeting
DESCRIPTION:The Business meeting will be virtual via Zoom and in-person at Grace Episcopal Church\, 130 Muir Station Road\, Martinez\, CA 94553. For the Zoom passcode\, please Contact Us.
URL:https://district08cnca.org/event/p75-bismeet/2026-08-04/
LOCATION:Grace Episcopal Church\, 130 Muir Station Rd\, Martinez\, CA\, 94553\, United States
CATEGORIES:District 08
END:VEVENT
BEGIN:VEVENT
DTSTART;TZID=America/Los_Angeles:20260822T123000
DTEND;TZID=America/Los_Angeles:20260822T153000
DTSTAMP:20260422T214249
CREATED:20241102T221247Z
LAST-MODIFIED:20241102T222055Z
UID:10000973-1787401800-1787412600@district08cnca.org
SUMMARY:Panel 75 Monthly Area Committee Meeting
DESCRIPTION:DCM Sharing Session 11:00 am\nACM begins at 12:30 pm\nClick here to go to meetings\nMeeting ID: 632 553 607\nPasscode: Ask your DCM or GSR or Contact Us
URL:https://district08cnca.org/event/p75-acm/2026-08-22/
LOCATION:Petaluma Community Center\, 320 N. McDowell Blvd\, Petaluma\, CA\, 94954\, United States
CATEGORIES:ACM,CNCA Area 06
END:VEVENT
BEGIN:VEVENT
DTSTART;TZID=America/Los_Angeles:20260901T184500
DTEND;TZID=America/Los_Angeles:20260901T191500
DTSTAMP:20260422T214249
CREATED:20241201T190218Z
LAST-MODIFIED:20241201T190218Z
UID:10001025-1788288300-1788290100@district08cnca.org
SUMMARY:Panel 75 New GSR Training
DESCRIPTION:The New GSR Orientation training will be virtual via Zoom and in-person at Grace Episcopal Church\, 130 Muir Station Road\, Martinez\, CA 94553. For the Zoom passcode\, please Contact Us.
URL:https://district08cnca.org/event/panel-75-new-gsr-training/2026-09-01/
LOCATION:Grace Episcopal Church\, 130 Muir Station Rd\, Martinez\, CA\, 94553\, United States
CATEGORIES:District 08,Training/Workshops
END:VEVENT
BEGIN:VEVENT
DTSTART;TZID=America/Los_Angeles:20260901T184500
DTEND;TZID=America/Los_Angeles:20260901T191500
DTSTAMP:20260422T214249
CREATED:20241201T190524Z
LAST-MODIFIED:20241201T190524Z
UID:10001049-1788288300-1788290100@district08cnca.org
SUMMARY:Panel 75 District Service Manual and Concept Study
DESCRIPTION:The Service Manual & Concept Study will be virtual via Zoom or in-person at Grace Episcopal Church\, 130 Muir Station Road\, Martinez\, CA 94553. For the Zoom passcode\, please Contact Us.
URL:https://district08cnca.org/event/panel-75-district-service-manual-and-concept-study/2026-09-01/
LOCATION:Grace Episcopal Church\, 130 Muir Station Rd\, Martinez\, CA\, 94553\, United States
CATEGORIES:District 08,Training/Workshops
END:VEVENT
BEGIN:VEVENT
DTSTART;TZID=America/Los_Angeles:20260901T193000
DTEND;TZID=America/Los_Angeles:20260901T210000
DTSTAMP:20260422T214249
CREATED:20241201T185847Z
LAST-MODIFIED:20260109T235629Z
UID:10001075-1788291000-1788296400@district08cnca.org
SUMMARY:Panel 75 District Business Meeting
DESCRIPTION:The Business meeting will be virtual via Zoom and in-person at Grace Episcopal Church\, 130 Muir Station Road\, Martinez\, CA 94553. For the Zoom passcode\, please Contact Us.
URL:https://district08cnca.org/event/p75-bismeet/2026-09-01/
LOCATION:Grace Episcopal Church\, 130 Muir Station Rd\, Martinez\, CA\, 94553\, United States
CATEGORIES:District 08
END:VEVENT
BEGIN:VEVENT
DTSTART;VALUE=DATE:20260911
DTEND;VALUE=DATE:20260914
DTSTAMP:20260422T214249
CREATED:20260226T023657Z
LAST-MODIFIED:20260226T023657Z
UID:10001082-1789084800-1789343999@district08cnca.org
SUMMARY:The National AA Technology Workshop
DESCRIPTION:NAATW Workshop\n                 1 file(s)  303.42 KB\n            \n            \n                Download
URL:https://district08cnca.org/event/the-national-aa-technology-workshop/
LOCATION:Concord Hilton\, 1970 Diamond Blvd\, Concord\, CA\, 94520\, United States
CATEGORIES:Conferences
END:VEVENT
BEGIN:VEVENT
DTSTART;TZID=America/Los_Angeles:20260926T123000
DTEND;TZID=America/Los_Angeles:20260926T153000
DTSTAMP:20260422T214249
CREATED:20241102T221247Z
LAST-MODIFIED:20241102T222055Z
UID:10000974-1790425800-1790436600@district08cnca.org
SUMMARY:Panel 75 Monthly Area Committee Meeting
DESCRIPTION:DCM Sharing Session 11:00 am\nACM begins at 12:30 pm\nClick here to go to meetings\nMeeting ID: 632 553 607\nPasscode: Ask your DCM or GSR or Contact Us
URL:https://district08cnca.org/event/p75-acm/2026-09-26/
LOCATION:Petaluma Community Center\, 320 N. McDowell Blvd\, Petaluma\, CA\, 94954\, United States
CATEGORIES:ACM,CNCA Area 06
END:VEVENT
BEGIN:VEVENT
DTSTART;TZID=America/Los_Angeles:20261006T184500
DTEND;TZID=America/Los_Angeles:20261006T191500
DTSTAMP:20260422T214249
CREATED:20241201T190218Z
LAST-MODIFIED:20241201T190218Z
UID:10001026-1791312300-1791314100@district08cnca.org
SUMMARY:Panel 75 New GSR Training
DESCRIPTION:The New GSR Orientation training will be virtual via Zoom and in-person at Grace Episcopal Church\, 130 Muir Station Road\, Martinez\, CA 94553. For the Zoom passcode\, please Contact Us.
URL:https://district08cnca.org/event/panel-75-new-gsr-training/2026-10-06/
LOCATION:Grace Episcopal Church\, 130 Muir Station Rd\, Martinez\, CA\, 94553\, United States
CATEGORIES:District 08,Training/Workshops
END:VEVENT
END:VCALENDAR